BEGIN:VCALENDAR
VERSION:2.0
PRODID:-//Guylène Charmetant - ECPv5.2.1//NONSGML v1.0//EN
CALSCALE:GREGORIAN
METHOD:PUBLISH
X-WR-CALNAME:Guylène Charmetant
X-ORIGINAL-URL:https://guylenecharmetant.fr
X-WR-CALDESC:évènements pour Guylène Charmetant
BEGIN:VTIMEZONE
TZID:Europe/Paris
BEGIN:DAYLIGHT
TZOFFSETFROM:+0100
TZOFFSETTO:+0200
TZNAME:CEST
DTSTART:20250330T010000
END:DAYLIGHT
BEGIN:STANDARD
TZOFFSETFROM:+0200
TZOFFSETTO:+0100
TZNAME:CET
DTSTART:20251026T010000
END:STANDARD
END:VTIMEZONE
BEGIN:VEVENT
DTSTART;TZID=Europe/Paris:20250822T200000
DTEND;TZID=Europe/Paris:20250822T220000
DTSTAMP:20260419T164520
CREATED:20250818T115939Z
LAST-MODIFIED:20250818T115939Z
UID:1081-1755892800-1755900000@guylenecharmetant.fr
SUMMARY:Chabada Swing duo
DESCRIPTION:Vendredi 22 août 2025 de 20h à 22h \nChabada Swing duo avec Jean-Marc Bellon\, piano et Guylène Charmetant\, chant\, percussion \nConcert d’ouverture de la Guinguette de Jargeau (sous les arbres\, direction camping\, plage) \nEntrée libre – Food Truck sur place \n 
URL:https://guylenecharmetant.fr/?tribe_events=chabada-swing-duo-2
LOCATION:Jargeau plage
ATTACH;FMTTYPE=image/jpeg:https://guylenecharmetant.fr/wp-content/uploads/2025/08/Guinguette-de-Jargeau-22-au-31-aout-25.jpeg
END:VEVENT
END:VCALENDAR