BEGIN:VCALENDAR
VERSION:2.0
PRODID:-//Guylène Charmetant - ECPv5.2.1//NONSGML v1.0//EN
CALSCALE:GREGORIAN
METHOD:PUBLISH
X-WR-CALNAME:Guylène Charmetant
X-ORIGINAL-URL:https://guylenecharmetant.fr
X-WR-CALDESC:évènements pour Guylène Charmetant
BEGIN:VTIMEZONE
TZID:Europe/Paris
BEGIN:DAYLIGHT
TZOFFSETFROM:+0100
TZOFFSETTO:+0200
TZNAME:CEST
DTSTART:20250330T010000
END:DAYLIGHT
BEGIN:STANDARD
TZOFFSETFROM:+0200
TZOFFSETTO:+0100
TZNAME:CET
DTSTART:20251026T010000
END:STANDARD
END:VTIMEZONE
BEGIN:VEVENT
DTSTART;TZID=Europe/Paris:20250628T190000
DTEND;TZID=Europe/Paris:20250628T220000
DTSTAMP:20260421T102900
CREATED:20250603T081533Z
LAST-MODIFIED:20250603T082940Z
UID:1067-1751137200-1751148000@guylenecharmetant.fr
SUMMARY:CHABADA SWING Trio 
DESCRIPTION:Pop\, Swing\, chansons françaises \nSalle Polyvalente – 45700 Chevillon sur Huillard \nLors d’un Repas organisé par le comité des fêtes \nInformations et réservations au 06.87.13.72.00 ou par mail à comitechevillon@gmail.com – Suivi d’un feu d’artifice organisé par la commune à 23h00 au stade de football. \n 
URL:https://guylenecharmetant.fr/?tribe_events=chabada-swing-trio
LOCATION:Chevillon sur Huillard
END:VEVENT
END:VCALENDAR