BEGIN:VCALENDAR
VERSION:2.0
PRODID:-//Guylène Charmetant - ECPv5.2.1//NONSGML v1.0//EN
CALSCALE:GREGORIAN
METHOD:PUBLISH
X-WR-CALNAME:Guylène Charmetant
X-ORIGINAL-URL:https://guylenecharmetant.fr
X-WR-CALDESC:évènements pour Guylène Charmetant
BEGIN:VTIMEZONE
TZID:Europe/Paris
BEGIN:DAYLIGHT
TZOFFSETFROM:+0100
TZOFFSETTO:+0200
TZNAME:CEST
DTSTART:20250330T010000
END:DAYLIGHT
BEGIN:STANDARD
TZOFFSETFROM:+0200
TZOFFSETTO:+0100
TZNAME:CET
DTSTART:20251026T010000
END:STANDARD
END:VTIMEZONE
BEGIN:VEVENT
DTSTART;TZID=Europe/Paris:20250425T193000
DTEND;TZID=Europe/Paris:20250425T213000
DTSTAMP:20260421T191924
CREATED:20250222T220304Z
LAST-MODIFIED:20250308T101549Z
UID:994-1745609400-1745616600@guylenecharmetant.fr
SUMMARY:CHABADA SWING'N POP Trio 
DESCRIPTION:Reprises de succès Pop en version Swing \nChansons harmonisées\, humour\, vivacité\, complicité sont au rendez-vous ! \nAvec Guylène Charmetant : chant \nFrançois Manuelian : guitare\, percussions\, chant\, \nAndreï Bizioukine : contrebasse\, guitare\, chant \nLive à la Demeure \nRestaurant de l’Hôtel Novotel \n2 rue Honoré de Balzac \n45100 Orléans \nRéservations : 02 38 63 04 28 \n  \n 
URL:https://guylenecharmetant.fr/?tribe_events=chabada-swingn-pop-trio-2
LOCATION:Restaurant de l’Hôtel Novotel\, 2 rue Honoré de Balzac\, Orléans\, 45100
ATTACH;FMTTYPE=image/png:https://guylenecharmetant.fr/wp-content/uploads/2025/02/Chabada-Swingn-Pop-Novotel-Orleans-Sud-25-avril-25.png
END:VEVENT
END:VCALENDAR