BEGIN:VCALENDAR
VERSION:2.0
PRODID:-//Guylène Charmetant - ECPv5.2.1//NONSGML v1.0//EN
CALSCALE:GREGORIAN
METHOD:PUBLISH
X-WR-CALNAME:Guylène Charmetant
X-ORIGINAL-URL:https://guylenecharmetant.fr
X-WR-CALDESC:évènements pour Guylène Charmetant
BEGIN:VTIMEZONE
TZID:Europe/Paris
BEGIN:DAYLIGHT
TZOFFSETFROM:+0100
TZOFFSETTO:+0200
TZNAME:CEST
DTSTART:20250330T010000
END:DAYLIGHT
BEGIN:STANDARD
TZOFFSETFROM:+0200
TZOFFSETTO:+0100
TZNAME:CET
DTSTART:20251026T010000
END:STANDARD
END:VTIMEZONE
BEGIN:VEVENT
DTSTART;TZID=Europe/Paris:20250606T203000
DTEND;TZID=Europe/Paris:20250606T220000
DTSTAMP:20260421T161429
CREATED:20250222T220738Z
LAST-MODIFIED:20250603T083044Z
UID:998-1749241800-1749247200@guylenecharmetant.fr
SUMMARY:CHABADA SWING'N POP Trio 
DESCRIPTION:Vendredi 6 juin 2025 de 20h30 à 22h \nEt séance gratuite à 14h30 pour les professionnels \nCHABADA SWING’N POP Trio  \nReprises de succès Pop en version Swing  \nChansons harmonisées\, vivacité\, complicité sont au rendez-vous ! \nAvec Guylène Charmetant : chant \nFrançois Manuelian : guitare\, percussions\, chant\, \nAndreï Bizioukine : contrebasse\, guitare\, chant \nInfos et réservations pour la séance gratuite de 14h30 : 06 61 71 06 60 \nBilletterie pour le concert de 20h30 sur HelloAsso   \nhttps://www.helloasso.com/associations/emma-la-voix-du-swing/evenements/chabada-swing-n-pop-trio \nTarif : 12 euros – Tarif réduit (- 15 ans\, étudiants\, D.E\,) : 8 euros \nMAM – Maison des Arts et de la musique \n1 cours Victor Hugo – 45100 Orléans
URL:https://guylenecharmetant.fr/?tribe_events=chabada-swingn-pop-trio-3
LOCATION:10 cours Victor Hugo\, ORLEANS\, France
ATTACH;FMTTYPE=image/jpeg:https://guylenecharmetant.fr/wp-content/uploads/2025/02/Chabada-Swingn-Pop-trio-MAM-6-juin-25.jpg
END:VEVENT
END:VCALENDAR