BEGIN:VCALENDAR
VERSION:2.0
PRODID:-//Guylène Charmetant - ECPv5.2.1//NONSGML v1.0//EN
CALSCALE:GREGORIAN
METHOD:PUBLISH
X-WR-CALNAME:Guylène Charmetant
X-ORIGINAL-URL:https://guylenecharmetant.fr
X-WR-CALDESC:évènements pour Guylène Charmetant
BEGIN:VTIMEZONE
TZID:Europe/Paris
BEGIN:DAYLIGHT
TZOFFSETFROM:+0100
TZOFFSETTO:+0200
TZNAME:CEST
DTSTART:20250330T010000
END:DAYLIGHT
BEGIN:STANDARD
TZOFFSETFROM:+0200
TZOFFSETTO:+0100
TZNAME:CET
DTSTART:20251026T010000
END:STANDARD
END:VTIMEZONE
BEGIN:VEVENT
DTSTART;TZID=Europe/Paris:20250524T203000
DTEND;TZID=Europe/Paris:20250524T223000
DTSTAMP:20260421T174711
CREATED:20250422T144557Z
LAST-MODIFIED:20250522T113220Z
UID:1039-1748118600-1748125800@guylenecharmetant.fr
SUMMARY:Concert Gospel Soul de l’ensemble vocal Nobody Knows
DESCRIPTION:Collégiale Saint-Liphard – place du château – Meung sur Loire (45) \nAu Profit de l’association enfants cancer santé \nConcert Organisé par le Rotary Club de Meung sur Loire \nLe répertoire\, principalement Gospel les premières années\, explore également les standards de la Pop\, de la Soul avec des arrangements propres au groupe.  \nLeur joie de chanter ensemble est communicative et leurs concerts sont l’occasion\, pour le public\, de partager ces musiques pleine d’espoir\, vivantes et rythmées. \nDirigé par Guylène Charmetant\, l’ensemble vocal sera accompagné par David Kozak au Piano. \nTarif : 10 euros – Gratuit pour les – de 14 ans \n  \n  \n  \n 
URL:https://guylenecharmetant.fr/?tribe_events=concert-gospel-soul-de-lensemble-vocal-nobody-knows-5
LOCATION:Collégiale Saint-Liphard – place du château – Meung sur Loire (45)
ATTACH;FMTTYPE=image/png:https://guylenecharmetant.fr/wp-content/uploads/2025/04/3-gospel.png
END:VEVENT
END:VCALENDAR